BEGIN:VCALENDAR
VERSION:2.0
PRODID:-//pretix//BEANS_Pretix//
BEGIN:VTIMEZONE
TZID:Europe/Berlin
BEGIN:STANDARD
DTSTART:20001029T040000
RRULE:FREQ=YEARLY;BYDAY=-1SU;BYMONTH=10
TZNAME:CET
TZOFFSETFROM:+0200
TZOFFSETTO:+0100
END:STANDARD
BEGIN:DAYLIGHT
DTSTART:20000326T030000
RRULE:FREQ=YEARLY;BYDAY=-1SU;BYMONTH=3
TZNAME:CEST
TZOFFSETFROM:+0100
TZOFFSETTO:+0200
END:DAYLIGHT
END:VTIMEZONE
BEGIN:VEVENT
UID:pretix-rbtv-nc-ps-berlin-0@tickets.rocketbeans.tv
DTSTART;TZID=Europe/Berlin:20251128T153000
DTEND;TZID=Europe/Berlin:20251129T003000
DESCRIPTION:Tickets: https://tickets.rocketbeans.tv/nc-ps-berlin/\nEinlass:
  28.11.2025 15:00\nVeranstalter: Rocket Beans TV
DTSTAMP:20260424T201300Z
LOCATION:XPERION | Saturn Berlin Alexanderplatz\, Alexanderplatz 3\, 10178 
 Berlin
SUMMARY:Nerd Commander – PlayStation Challenge Day im Xperion Berlin
END:VEVENT
END:VCALENDAR
